BEGIN:VCALENDAR
VERSION:2.0
PRODID:-//Nigeria Canadian Association (NCA) - ECPv6.2.9//NONSGML v1.0//EN
CALSCALE:GREGORIAN
METHOD:PUBLISH
X-WR-CALNAME:Nigeria Canadian Association (NCA)
X-ORIGINAL-URL:https://ncagta.proarkcorp.com
X-WR-CALDESC:Events for Nigeria Canadian Association (NCA)
REFRESH-INTERVAL;VALUE=DURATION:PT1H
X-Robots-Tag:noindex
X-PUBLISHED-TTL:PT1H
BEGIN:VTIMEZONE
TZID:UTC
BEGIN:STANDARD
TZOFFSETFROM:+0000
TZOFFSETTO:+0000
TZNAME:UTC
DTSTART:20230101T000000
END:STANDARD
END:VTIMEZONE
BEGIN:VEVENT
DTSTART;VALUE=DATE:20240219
DTEND;VALUE=DATE:20240220
DTSTAMP:20260425T120006
CREATED:20231218T053411Z
LAST-MODIFIED:20231218T053411Z
UID:6751-1708300800-1708387199@ncagta.proarkcorp.com
SUMMARY:Black History Month
DESCRIPTION:BLACK HISTORY MONTH – FEBRUARY 19TH\nBlack History Month 2024 is here and Nigerian Canadian Association\, Greater Toronto Area is excited to invite you to its celebration event.\n\n\n\n\n\n\n\nOn February 19\, 2024\, we will celebrate Black History Month with the Nigerian Canadian community in a virtual event. As a friend and supporter of our community\, we would be delighted to have you present. \nThis year\, the theme for Black History Month is February and Forever: Celebrating Black History today and every day. Accordingly\, our celebration will include a recognition ceremony for stand-out achievers in the Nigerian Canadian community\, announcement of winners of our Black History Month essay competition\, cultural presentations and more. \nDetails to join are below: \n\nEvent: NCA GTA’s Black History Month 2024 Celebration\nDate/Time: February 19\, 2022\, | 06:00 PM Eastern Time (US and Canada)\nVenue: Zoom | ID: 873 0546 8329 | Passcode: BHM2022\nLink: https://tinyurl.com/5n8wj6tx\nRSVP: general.secretary@ncagta.com\n\nWe look forward to seeing you. Thank you.
URL:https://ncagta.proarkcorp.com/event/black-history-month/
CATEGORIES:Ceremony
ATTACH;FMTTYPE=image/png:https://ncagta.proarkcorp.com/wp-content/uploads/2023/12/slide5.png
END:VEVENT
BEGIN:VEVENT
DTSTART;VALUE=DATE:20231001
DTEND;VALUE=DATE:20231002
DTSTAMP:20260425T120006
CREATED:20231218T052408Z
LAST-MODIFIED:20231218T052656Z
UID:6743-1696118400-1696204799@ncagta.proarkcorp.com
SUMMARY:INDEPENDENCE DAY CELEBRATION
DESCRIPTION:62ND NIGERIA INDEPENDENCE DAY ANNIVERSARY FLAG RAISING \nCEREMONY\nMESSAGE\nby \nOJIE FESTUS EGHOBOR\nPRESIDENT \nNIGERIAN CANADIAN ASSOCIATION (aka NCA) GTA CANADA \nWarm greetings to all present here\, distinguished guests and fellow Nigerians. For those watching or listening online\, we say thank you for joining us in marking this day. Welcome to this Flag Raising ceremony to mark the 62nd Independence of our motherland\n– Nigeria.\nAs a people united in purpose\, we must act as good ambassadors in whatever situation or capacity we find ourselves and set aside our differences and harness our energies to the task of nation building. \n  \nhttps://ncagta.proarkcorp.com/wp-content/uploads/2023/12/VIDEO-2022-09-28-07-53-37.mp4
URL:https://ncagta.proarkcorp.com/event/independence-day-celebration/
CATEGORIES:Ceremony
ATTACH;FMTTYPE=image/jpeg:https://ncagta.proarkcorp.com/wp-content/uploads/2023/12/PHOTO-2022-09-28-09-29-57-1.jpg
END:VEVENT
BEGIN:VEVENT
DTSTART;VALUE=DATE:20231001
DTEND;VALUE=DATE:20231002
DTSTAMP:20260425T120006
CREATED:20231218T060521Z
LAST-MODIFIED:20231218T060521Z
UID:6772-1696118400-1696204799@ncagta.proarkcorp.com
SUMMARY:Independence Day Flag
DESCRIPTION:INDEPENDENCE DAY FLAG RAISING CEREMONY\n\n\n\n\n\n\n\n\n\n\nGood morning\, good afternoon and good evening depending on where you are watching from. \nI stand here with all Nigerians worldwide to celebrate the Nigerian Independence Day . \nToday’s Nigerian Independence day celebration marks the culmination of the journey that began 61 years ago.\nAs we celebrate the achievements of our forefathers for our independence\, we equally want to call attention to the evils plaguing us as a people. \nAs the Nigerian community leader in the Greater Toronto Area\, Canada\, I feel your pain but we can take solace in the holy book referencing Job 14:7-9 that says:\n“That there is hope for a tree: If it is cut down\, it will sprout again\, and its new shoots will not fail.\nJob 14:8 Its roots may grow old in the ground and its stump die in the soil\,\nJob 14:9 yet at the scent of water it will bud and put forth shoots like a plant. \nIt is an undeniable fact that our leaders have deviated from the path of our founding fathers in nation building. \nOf note are issues plauging our nation presently such as unemployment\, devaluation of our currency\, energy and infrastructural deficiencies\, lack of smart industrialization and foreign policies\, lack of direction and abandonment of previous govt projects\, mishandling of the covid-19 pandemic ravaging the world.
URL:https://ncagta.proarkcorp.com/event/independence-day-flag/
CATEGORIES:Ceremony
END:VEVENT
END:VCALENDAR